BEGIN:VCALENDAR
VERSION:2.0
PRODID:-//thearcmontgomerycounty.org//NONSGML kigkonsult.se iCalcreator 2.3
 0.10//
CALSCALE:GREGORIAN
METHOD:PUBLISH
UID:85f4d846-4666-4368-9620-39b3da851691
X-WR-CALDESC:<b>This virtual event is for students and young adults with di
 sabilities and their families.  All sessions will be provided through Zoom
 .</b>  Each person participating is required to have an email.\n\n<i>Most 
 webinars and the Exhibitor Gallery videos will be available to the public 
 on YouTube after the event. <b>Please register only if you plan to partici
 pate in the live events on November 14.  </b></i>\n\nAccommodations\, incl
 uding digital accommodations\, ASL interpretation\, and other language acc
 ommodations must be requested before October 28 by sending an email to tra
 nsitioningsuccess@gmail.com.
X-WR-RELCALID:290bb8738e6ec4822b24a92045fec183
X-WR-TIMEZONE:America/New_York
BEGIN:VTIMEZONE
TZID:America/New_York
BEGIN:STANDARD
TZNAME:EST
DTSTART:20201101T020000
TZOFFSETFROM:-0400
TZOFFSETTO:-0500
RDATE:20211107T020000
END:STANDARD
BEGIN:DAYLIGHT
TZNAME:EDT
DTSTART:20200308T020000
TZOFFSETFROM:-0500
TZOFFSETTO:-0400
RDATE:20210314T020000
RDATE:20220313T020000
END:DAYLIGHT
END:VTIMEZONE
BEGIN:VEVENT
UID:51dffc1f-6cb4-46f8-9d0f-be047f80d6de
DTSTAMP:20260422T072730Z
DESCRIPTION:<b>This virtual event is for students and young adults with dis
 abilities and their families.  All sessions will be provided through Zoom.
 </b>  Each person participating is required to have an email.\n\n<i>Most w
 ebinars and the Exhibitor Gallery videos will be available to the public o
 n YouTube after the event. <b>Please register only if you plan to particip
 ate in the live events on November 14.  </b></i>\n\nAccommodations\, inclu
 ding digital accommodations\, ASL interpretation\, and other language acco
 mmodations must be requested before October 28 by sending an email to tran
 sitioningsuccess@gmail.com.
DTSTART;TZID=America/New_York:20201114T100000
DTEND;TZID=America/New_York:20201114T153000
LOCATION:Zoom Webinar\; Details Provided After Registration
SUMMARY:Transitioning Youth Resource Fair
END:VEVENT
END:VCALENDAR
