BEGIN:VCALENDAR
VERSION:2.0
PRODID:-//thearcmontgomerycounty.org//NONSGML kigkonsult.se iCalcreator 2.3
 0.10//
CALSCALE:GREGORIAN
METHOD:PUBLISH
UID:bf457940-61f6-4607-a507-020c6e7c0a83
X-WR-CALDESC:Family members of adults <b>supported by The Arc Montgomery Co
 unty</b> are invited to a conversation with Interim CEO Daria Cervantes.  
 Questions may be submitted in advance to SuggestionsBox@arcmontmd.org.\n\n
 Registration closes at 11:30 pm on the Thursday prior to the event.
X-WR-RELCALID:0aa6760015f3c164ef847fdf666e4656
X-WR-TIMEZONE:America/New_York
BEGIN:VTIMEZONE
TZID:America/New_York
BEGIN:STANDARD
TZNAME:EST
DTSTART:20201101T020000
TZOFFSETFROM:-0400
TZOFFSETTO:-0500
RDATE:20211107T020000
END:STANDARD
BEGIN:DAYLIGHT
TZNAME:EDT
DTSTART:20200308T020000
TZOFFSETFROM:-0500
TZOFFSETTO:-0400
RDATE:20210314T020000
RDATE:20220313T020000
END:DAYLIGHT
END:VTIMEZONE
BEGIN:VEVENT
UID:d5a4ebfe-6fa3-40d0-b43c-3f6ec174f70f
DTSTAMP:20260422T103623Z
DESCRIPTION:Family members of adults <b>supported by The Arc Montgomery Cou
 nty</b> are invited to a conversation with Interim CEO Daria Cervantes.  Q
 uestions may be submitted in advance to SuggestionsBox@arcmontmd.org.\n\nR
 egistration closes at 11:30 pm on the Thursday prior to the event.
DTSTART;TZID=America/New_York:20201204T150000
DTEND;TZID=America/New_York:20201204T154500
LOCATION:Zoom Meeting\; Details Provided After Registration
SUMMARY:Discussion with Daria–For Family Members of Adults Support Only
END:VEVENT
END:VCALENDAR
