BEGIN:VCALENDAR
VERSION:2.0
PRODID:-//thearcmontgomerycounty.org//NONSGML kigkonsult.se iCalcreator 2.3
 0.10//
CALSCALE:GREGORIAN
METHOD:PUBLISH
UID:6c5b9d09-b6e9-4f9b-9c56-b9993e0bd9ba
X-WR-CALDESC:Family members of adults <b>supported by The Arc Montgomery Co
 unty</b> are invited to a conversation with Interim CEO Daria Cervantes.  
 Questions may be submitted in advance to SuggestionsBox@arcmontmd.org.\n\n
 Registration closes at 11:30 pm on the Thursday prior to the event.
X-WR-RELCALID:3217716f03350a238c7e42d3f807dfc4
X-WR-TIMEZONE:America/New_York
BEGIN:VTIMEZONE
TZID:America/New_York
BEGIN:STANDARD
TZNAME:EST
DTSTART:20201101T020000
TZOFFSETFROM:-0400
TZOFFSETTO:-0500
RDATE:20211107T020000
END:STANDARD
BEGIN:DAYLIGHT
TZNAME:EDT
DTSTART:20200308T020000
TZOFFSETFROM:-0500
TZOFFSETTO:-0400
RDATE:20210314T020000
RDATE:20220313T020000
END:DAYLIGHT
END:VTIMEZONE
BEGIN:VEVENT
UID:ca95f577-0683-41d4-8144-4afc01a28d4a
DTSTAMP:20260422T090753Z
DESCRIPTION:Family members of adults <b>supported by The Arc Montgomery Cou
 nty</b> are invited to a conversation with Interim CEO Daria Cervantes.  Q
 uestions may be submitted in advance to SuggestionsBox@arcmontmd.org.\n\nR
 egistration closes at 11:30 pm on the Thursday prior to the event.
DTSTART;TZID=America/New_York:20201218T150000
DTEND;TZID=America/New_York:20201218T154500
LOCATION:Zoom Meeting\; Details Provided After Registration
SUMMARY:Discussion with Daria–For Children & Youth Services Families Only
END:VEVENT
END:VCALENDAR
