BEGIN:VCALENDAR
VERSION:2.0
PRODID:-//thearcmontgomerycounty.org//NONSGML kigkonsult.se iCalcreator 2.3
 0.10//
CALSCALE:GREGORIAN
METHOD:PUBLISH
UID:3dde3cf0-ba36-4d38-91bf-4254edf151f5
X-WR-CALDESC:Offices closed.\nChildren & Youth Services programs closed.\nV
 ocational & Day Services programs closed.
X-WR-RELCALID:a1864127b50995cbb42c18a759358c2f
X-WR-TIMEZONE:America/New_York
BEGIN:VTIMEZONE
TZID:America/New_York
BEGIN:STANDARD
TZNAME:EST
DTSTART:20201101T020000
TZOFFSETFROM:-0400
TZOFFSETTO:-0500
RDATE:20211107T020000
END:STANDARD
BEGIN:DAYLIGHT
TZNAME:EDT
DTSTART:20200308T020000
TZOFFSETFROM:-0500
TZOFFSETTO:-0400
RDATE:20210314T020000
RDATE:20220313T020000
END:DAYLIGHT
END:VTIMEZONE
BEGIN:VEVENT
UID:944fb314-c4db-4994-abe6-8c8495140d6b
DTSTAMP:20260422T090917Z
DESCRIPTION:Offices closed.\nChildren & Youth Services programs closed.\nVo
 cational & Day Services programs closed.
DTSTART;TZID=America/New_York:20201225T000000
DTEND;TZID=America/New_York:20201225T235900
LOCATION:
SUMMARY:Christmas Holiday
END:VEVENT
END:VCALENDAR
