BEGIN:VCALENDAR
VERSION:2.0
PRODID:-//thearcmontgomerycounty.org//NONSGML kigkonsult.se iCalcreator 2.3
 0.10//
CALSCALE:GREGORIAN
METHOD:PUBLISH
UID:976864ff-5ecb-4d32-b5ed-2c6f05a0b3de
X-WR-CALDESC:The Arc Montgomery County has invited Dr. Michael Greenberg to
  share helpful information about the covid-19 vaccinations with our famili
 es and our employees. His presentation is about 45 minutes\, and there wil
 l be time for questions at the end. Dr. Greenberg is a recognized expert i
 n COVID-19 and it's impact on people with disabilities. He is also parent 
 to a person with developmental disabilities.\n\n<b>Registration is require
 d!</b>  Registration closes one hour prior to event.
X-WR-RELCALID:181baec9a4ea7e51baa9138a790ad181
X-WR-TIMEZONE:America/New_York
BEGIN:VTIMEZONE
TZID:America/New_York
BEGIN:STANDARD
TZNAME:EST
DTSTART:20201101T020000
TZOFFSETFROM:-0400
TZOFFSETTO:-0500
RDATE:20211107T020000
END:STANDARD
BEGIN:DAYLIGHT
TZNAME:EDT
DTSTART:20200308T020000
TZOFFSETFROM:-0500
TZOFFSETTO:-0400
RDATE:20210314T020000
RDATE:20220313T020000
END:DAYLIGHT
END:VTIMEZONE
BEGIN:VEVENT
UID:c142a30e-6f02-46ab-8512-5c92fbe1c0cf
DTSTAMP:20260422T103434Z
DESCRIPTION:The Arc Montgomery County has invited Dr. Michael Greenberg to 
 share helpful information about the covid-19 vaccinations with our familie
 s and our employees. His presentation is about 45 minutes\, and there will
  be time for questions at the end. Dr. Greenberg is a recognized expert in
  COVID-19 and it's impact on people with disabilities. He is also parent t
 o a person with developmental disabilities.\n\n<b>Registration is required
 !</b>  Registration closes one hour prior to event.
DTSTART;TZID=America/New_York:20210121T190000
DTEND;TZID=America/New_York:20210121T200000
LOCATION:Zoom Webinar\; Details Provided After Registration
SUMMARY:Dr. Greenberg Shares: Facts about the COVID-19 Vaccine
END:VEVENT
END:VCALENDAR
