BEGIN:VCALENDAR
VERSION:2.0
PRODID:-//thearcmontgomerycounty.org//NONSGML kigkonsult.se iCalcreator 2.3
 0.10//
CALSCALE:GREGORIAN
METHOD:PUBLISH
UID:cfec7d03-29d6-40cc-8e3b-f886f81a48fb
X-WR-CALDESC:<i>Know Your Feelings: Creative Ideas for Expressing Your Feel
 ings</i>\n\nLearn tools and resources to effectively manage your feelings 
 during challenging times.\n
X-WR-RELCALID:5deced7c2047bd826388b997cca534c7
X-WR-TIMEZONE:America/New_York
BEGIN:VTIMEZONE
TZID:America/New_York
BEGIN:STANDARD
TZNAME:EST
DTSTART:20201101T020000
TZOFFSETFROM:-0400
TZOFFSETTO:-0500
RDATE:20211107T020000
END:STANDARD
BEGIN:DAYLIGHT
TZNAME:EDT
DTSTART:20200308T020000
TZOFFSETFROM:-0500
TZOFFSETTO:-0400
RDATE:20210314T020000
RDATE:20220313T020000
END:DAYLIGHT
END:VTIMEZONE
BEGIN:VEVENT
UID:b5d452cd-37c3-47e8-a6e6-b66a34a73e67
DTSTAMP:20260422T103616Z
DESCRIPTION:<i>Know Your Feelings: Creative Ideas for Expressing Your Feeli
 ngs</i>\n\nLearn tools and resources to effectively manage your feelings d
 uring challenging times.\n
DTSTART;TZID=America/New_York:20210127T190000
DTEND;TZID=America/New_York:20210127T203000
LOCATION:Zoom Videoconference
SUMMARY:Transition Times Meeting
END:VEVENT
END:VCALENDAR
