BEGIN:VCALENDAR
VERSION:2.0
PRODID:-//thearcmontgomerycounty.org//NONSGML kigkonsult.se iCalcreator 2.3
 0.10//
CALSCALE:GREGORIAN
METHOD:PUBLISH
UID:2048a5e3-9165-4867-8414-921e8bd808f3
X-WR-CALDESC:Family members of adults <b>supported by The Arc Montgomery Co
 unty</b> are invited to a conversation with Interim CEO Daria Cervantes.  
 Questions may be submitted in advance to SuggestionsBox@arcmontmd.org.\n\n
 Registration closes at 11:30 pm on the Thursday prior to the event.
X-WR-RELCALID:8bf3950609ea6e7239940050fed612f7
X-WR-TIMEZONE:America/New_York
BEGIN:VTIMEZONE
TZID:America/New_York
BEGIN:STANDARD
TZNAME:EST
DTSTART:20201101T020000
TZOFFSETFROM:-0400
TZOFFSETTO:-0500
RDATE:20211107T020000
END:STANDARD
BEGIN:DAYLIGHT
TZNAME:EDT
DTSTART:20200308T020000
TZOFFSETFROM:-0500
TZOFFSETTO:-0400
RDATE:20210314T020000
RDATE:20220313T020000
END:DAYLIGHT
END:VTIMEZONE
BEGIN:VEVENT
UID:ca9a8f64-3234-4465-801a-12c0b8e519ba
DTSTAMP:20260422T103854Z
DESCRIPTION:Family members of adults <b>supported by The Arc Montgomery Cou
 nty</b> are invited to a conversation with Interim CEO Daria Cervantes.  Q
 uestions may be submitted in advance to SuggestionsBox@arcmontmd.org.\n\nR
 egistration closes at 11:30 pm on the Thursday prior to the event.
DTSTART;TZID=America/New_York:20210129T150000
DTEND;TZID=America/New_York:20210129T154500
LOCATION:Zoom Meeting\; Details Provided After Registration
SUMMARY:Discussion with Daria–For Family Members of Adults Support Only
END:VEVENT
END:VCALENDAR
