BEGIN:VCALENDAR
VERSION:2.0
PRODID:-//thearcmontgomerycounty.org//NONSGML kigkonsult.se iCalcreator 2.3
 0.10//
CALSCALE:GREGORIAN
METHOD:PUBLISH
UID:e81bc897-6acb-4413-ab21-18fcc97006f3
X-WR-CALDESC:<b>Join our celebration honoring 37 employees for their years 
 of service to The Arc Montgomery County.</b>
X-WR-RELCALID:84cb47db609d6cefd4bb513e6e547bba
X-WR-TIMEZONE:America/New_York
BEGIN:VTIMEZONE
TZID:America/New_York
BEGIN:STANDARD
TZNAME:EST
DTSTART:20201101T020000
TZOFFSETFROM:-0400
TZOFFSETTO:-0500
RDATE:20211107T020000
END:STANDARD
BEGIN:DAYLIGHT
TZNAME:EDT
DTSTART:20200308T020000
TZOFFSETFROM:-0500
TZOFFSETTO:-0400
RDATE:20210314T020000
RDATE:20220313T020000
END:DAYLIGHT
END:VTIMEZONE
BEGIN:VEVENT
UID:19f6a9d3-48ac-43cd-8cd4-be153ffa6243
DTSTAMP:20260422T115634Z
DESCRIPTION:<b>Join our celebration honoring 37 employees for their years o
 f service to The Arc Montgomery County.</b>
DTSTART;TZID=America/New_York:20210203T190000
DTEND;TZID=America/New_York:20210203T203000
LOCATION:Zoom Webinar\; Details Provided After Registration
SUMMARY:2021 Tenure Recognition Ceremony
END:VEVENT
END:VCALENDAR
