BEGIN:VCALENDAR
VERSION:2.0
PRODID:-//thearcmontgomerycounty.org//NONSGML kigkonsult.se iCalcreator 2.3
 0.10//
CALSCALE:GREGORIAN
METHOD:PUBLISH
UID:00a4cf92-2d78-43ff-9396-71dffa24c751
X-WR-CALDESC:Adults <b>supported by The Arc Montgomery County</b> are invit
 ed to a conversation with Interim CEO Daria Cervantes.  Questions may be s
 ubmitted in advance to SuggestionsBox@arcmontmd.org.
X-WR-RELCALID:468eb98d14a200ce3ab37d8284e032bc
X-WR-TIMEZONE:America/New_York
BEGIN:VTIMEZONE
TZID:America/New_York
BEGIN:STANDARD
TZNAME:EST
DTSTART:20201101T020000
TZOFFSETFROM:-0400
TZOFFSETTO:-0500
RDATE:20211107T020000
END:STANDARD
BEGIN:DAYLIGHT
TZNAME:EDT
DTSTART:20200308T020000
TZOFFSETFROM:-0500
TZOFFSETTO:-0400
RDATE:20210314T020000
RDATE:20220313T020000
END:DAYLIGHT
END:VTIMEZONE
BEGIN:VEVENT
UID:a6b7e9db-775e-4eb5-b332-cf2c121dce39
DTSTAMP:20260422T120329Z
DESCRIPTION:Adults <b>supported by The Arc Montgomery County</b> are invite
 d to a conversation with Interim CEO Daria Cervantes.  Questions may be su
 bmitted in advance to SuggestionsBox@arcmontmd.org.
DTSTART;TZID=America/New_York:20210205T150000
DTEND;TZID=America/New_York:20210205T154500
LOCATION:This event has been cancelled due to lack of registrations.
SUMMARY:CANCELLED—Discussion with Daria–For Adults Receiving Services Only
END:VEVENT
END:VCALENDAR
