BEGIN:VCALENDAR
VERSION:2.0
PRODID:-//thearcmontgomerycounty.org//NONSGML kigkonsult.se iCalcreator 2.3
 0.10//
CALSCALE:GREGORIAN
METHOD:PUBLISH
UID:f200e268-101e-4157-bb36-021fb9a94135
X-WR-CALDESC:<b>FOR CURRENT MEMBERS ONLY</b>\nThe Board of Directors of The
  Arc Montgomery County has called a Special Membership Meeting to present 
 and discuss the proposed Amended and Restated Bylaws of the Corporation.\n
 \nThis Special Membership Meeting will be held via Zoom.  Registration is 
 required and only current members may participate (you will be required to
  enter your unique membership number).\n\nLetters announcing this meeting 
 were mailed to all current members on February 1\, 2021.  If you have not 
 received your letter as of February 22\, please email or call for assistan
 ce.
X-WR-RELCALID:be1cd22e8124e3ea08cf7fe0732243eb
X-WR-TIMEZONE:America/New_York
BEGIN:VTIMEZONE
TZID:America/New_York
BEGIN:STANDARD
TZNAME:EST
DTSTART:20201101T020000
TZOFFSETFROM:-0400
TZOFFSETTO:-0500
RDATE:20211107T020000
END:STANDARD
BEGIN:DAYLIGHT
TZNAME:EDT
DTSTART:20200308T020000
TZOFFSETFROM:-0500
TZOFFSETTO:-0400
RDATE:20210314T020000
RDATE:20220313T020000
END:DAYLIGHT
END:VTIMEZONE
BEGIN:VEVENT
UID:65866c89-53eb-4ec8-89bf-540d939e03cf
DTSTAMP:20260422T115425Z
DESCRIPTION:<b>FOR CURRENT MEMBERS ONLY</b>\nThe Board of Directors of The 
 Arc Montgomery County has called a Special Membership Meeting to present a
 nd discuss the proposed Amended and Restated Bylaws of the Corporation.\n
 \nThis Special Membership Meeting will be held via Zoom.  Registration is 
 required and only current members may participate (you will be required to
  enter your unique membership number).\n\nLetters announcing this meeting 
 were mailed to all current members on February 1\, 2021.  If you have not 
 received your letter as of February 22\, please email or call for assistan
 ce.
DTSTART;TZID=America/New_York:20210224T190000
DTEND;TZID=America/New_York:20210224T200000
LOCATION:Zoom Webinar\; Details Provided After Registration
SUMMARY:Special Membership Meeting
END:VEVENT
END:VCALENDAR
