BEGIN:VCALENDAR
VERSION:2.0
PRODID:-//thearcmontgomerycounty.org//NONSGML kigkonsult.se iCalcreator 2.3
 0.10//
CALSCALE:GREGORIAN
METHOD:PUBLISH
UID:aa2a0a29-77d3-4b73-838c-e83d05466644
X-WR-CALDESC:Adults <b>supported by The Arc Montgomery County</b> are invit
 ed to a conversation with Interim CEO Daria Cervantes.  Questions may be s
 ubmitted in advance to SuggestionsBox@arcmontmd.org.\n\nRegistration close
 s at 11:30 pm on the Thursday prior to the event.
X-WR-RELCALID:c628b4fe78d8df56afa82f596091ca58
X-WR-TIMEZONE:America/New_York
BEGIN:VTIMEZONE
TZID:America/New_York
BEGIN:STANDARD
TZNAME:EST
DTSTART:20201101T020000
TZOFFSETFROM:-0400
TZOFFSETTO:-0500
RDATE:20211107T020000
RDATE:20221106T020000
END:STANDARD
BEGIN:DAYLIGHT
TZNAME:EDT
DTSTART:20210314T020000
TZOFFSETFROM:-0500
TZOFFSETTO:-0400
RDATE:20220313T020000
END:DAYLIGHT
END:VTIMEZONE
BEGIN:VEVENT
UID:5fdc374b-2602-45db-9a95-fa8b271652a3
DTSTAMP:20260422T162539Z
DESCRIPTION:Adults <b>supported by The Arc Montgomery County</b> are invite
 d to a conversation with Interim CEO Daria Cervantes.  Questions may be su
 bmitted in advance to SuggestionsBox@arcmontmd.org.\n\nRegistration closes
  at 11:30 pm on the Thursday prior to the event.
DTSTART;TZID=America/New_York:20210507T150000
DTEND;TZID=America/New_York:20210507T154500
LOCATION:Zoom Meeting\; Details Provided After Registration
SUMMARY:Discussion with Daria–For Adults Receiving Services Only
END:VEVENT
END:VCALENDAR
