BEGIN:VCALENDAR
VERSION:2.0
PRODID:-//thearcmontgomerycounty.org//NONSGML kigkonsult.se iCalcreator 2.3
 0.10//
CALSCALE:GREGORIAN
METHOD:PUBLISH
UID:ddb7a691-6071-4312-92e4-97fbf75e33b5
X-WR-CALDESC:The Transition Work Group of Montgomery County and The Jewish 
 Federation of Greater Washington is pleased to host five webinars during t
 he month of May\, offering a wealth of information about mental health\, g
 overnment benefits\, housing\, independent living\, and recreation. Open t
 o adults\, young adults\, and high school students who are transitioning i
 nto the workforce or higher education. This event is FREE\, but registrati
 on is required.
X-WR-RELCALID:16cd088ffa0c2ccd3be32908fd0e3856
X-WR-TIMEZONE:America/New_York
BEGIN:VTIMEZONE
TZID:America/New_York
BEGIN:STANDARD
TZNAME:EST
DTSTART:20201101T020000
TZOFFSETFROM:-0400
TZOFFSETTO:-0500
RDATE:20211107T020000
RDATE:20221106T020000
END:STANDARD
BEGIN:DAYLIGHT
TZNAME:EDT
DTSTART:20210314T020000
TZOFFSETFROM:-0500
TZOFFSETTO:-0400
RDATE:20220313T020000
END:DAYLIGHT
END:VTIMEZONE
BEGIN:VEVENT
UID:e8fdab9b-cdca-4b9c-a00c-4f79ee06fff2
DTSTAMP:20260422T161733Z
DESCRIPTION:The Transition Work Group of Montgomery County and The Jewish F
 ederation of Greater Washington is pleased to host five webinars during th
 e month of May\, offering a wealth of information about mental health\, go
 vernment benefits\, housing\, independent living\, and recreation. Open to
  adults\, young adults\, and high school students who are transitioning in
 to the workforce or higher education. This event is FREE\, but registratio
 n is required.
DTSTART;TZID=America/New_York:20210512T190000
DTEND;TZID=America/New_York:20210512T210000
LOCATION:Where Will I Live? Housing Options in Montgomery County
SUMMARY:The Road to Independence Virtual Resource Fair
END:VEVENT
END:VCALENDAR
