BEGIN:VCALENDAR
VERSION:2.0
PRODID:-//thearcmontgomerycounty.org//NONSGML kigkonsult.se iCalcreator 2.3
 0.10//
CALSCALE:GREGORIAN
METHOD:PUBLISH
UID:532d5f67-af39-4dbd-ae00-2ecc46111466
X-WR-CALDESC:Build your own network alongside Montgomery County business le
 aders while making a difference in the lives of children\, youth\, adults 
 and seniors supported by The Arc Montgomery County.\n\nPlease <b><a href='
 https://thearcmontgomerycounty.org/connect/agency-calendar/event-calendar.
 html/event/2022/03/30/coffee-conversation/366433.'>click here</a></b> for 
 information on this year's Coffee & Conversation event\, taking place on W
 ednesday\, March 30\, 2022.
X-WR-RELCALID:10eda8d05a74d545361ff3f319bd035f
X-WR-TIMEZONE:America/New_York
BEGIN:VTIMEZONE
TZID:America/New_York
BEGIN:STANDARD
TZNAME:EST
DTSTART:20201101T020000
TZOFFSETFROM:-0400
TZOFFSETTO:-0500
RDATE:20211107T020000
RDATE:20221106T020000
END:STANDARD
BEGIN:DAYLIGHT
TZNAME:EDT
DTSTART:20210314T020000
TZOFFSETFROM:-0500
TZOFFSETTO:-0400
RDATE:20220313T020000
END:DAYLIGHT
END:VTIMEZONE
BEGIN:VEVENT
UID:0f44c286-6f65-4f97-94b3-6ca74764db2a
DTSTAMP:20260422T180024Z
DESCRIPTION:Build your own network alongside Montgomery County business lea
 ders while making a difference in the lives of children\, youth\, adults a
 nd seniors supported by The Arc Montgomery County.\n\nPlease <b><a href='h
 ttps://thearcmontgomerycounty.org/connect/agency-calendar/event-calendar.h
 tml/event/2022/03/30/coffee-conversation/366433.'>click here</a></b> for i
 nformation on this year's Coffee & Conversation event\, taking place on We
 dnesday\, March 30\, 2022.
DTSTART;TZID=America/New_York:20210525T080000
DTEND;TZID=America/New_York:20210525T090000
LOCATION:BUSINESS TO BUSINESS NETWORKING | VIRTUAL
SUMMARY:Coffee & Conversation
END:VEVENT
END:VCALENDAR
