BEGIN:VCALENDAR
VERSION:2.0
PRODID:-//thearcmontgomerycounty.org//NONSGML kigkonsult.se iCalcreator 2.3
 0.10//
CALSCALE:GREGORIAN
METHOD:PUBLISH
UID:d0d9406c-acb7-4e4c-866f-0a582e79ad29
X-WR-CALDESC:Join us from sunup to sundown as a snapshot of life with the p
 eople we support\, those who volunteer and our exceptional employees. Foll
 ow us on Facebook\, Instagram and Twitter to reconnect with old friends an
 d make new ones! Help spread the message by 'sharing' and 'liking' our pos
 ts. #ADayInTheLife
X-WR-RELCALID:2950a783c05a85f269172b1ee213ab98
X-WR-TIMEZONE:America/New_York
BEGIN:VTIMEZONE
TZID:America/New_York
BEGIN:STANDARD
TZNAME:EST
DTSTART:20201101T020000
TZOFFSETFROM:-0400
TZOFFSETTO:-0500
RDATE:20211107T020000
RDATE:20221106T020000
END:STANDARD
BEGIN:DAYLIGHT
TZNAME:EDT
DTSTART:20210314T020000
TZOFFSETFROM:-0500
TZOFFSETTO:-0400
RDATE:20220313T020000
END:DAYLIGHT
END:VTIMEZONE
BEGIN:VEVENT
UID:ef7f5d93-0ccc-4baa-ba19-5401131335d7
DTSTAMP:20260422T211157Z
DESCRIPTION:Join us from sunup to sundown as a snapshot of life with the pe
 ople we support\, those who volunteer and our exceptional employees. Follo
 w us on Facebook\, Instagram and Twitter to reconnect with old friends and
  make new ones! Help spread the message by 'sharing' and 'liking' our post
 s. #ADayInTheLife
DTSTART;TZID=America/New_York:20210825T080000
DTEND;TZID=America/New_York:20210825T200000
LOCATION:A snapshot of life at The Arc Montgomery County
SUMMARY:A Day In The Life
END:VEVENT
END:VCALENDAR
