BEGIN:VCALENDAR
VERSION:2.0
PRODID:-//thearcmontgomerycounty.org//NONSGML kigkonsult.se iCalcreator 2.3
 0.10//
CALSCALE:GREGORIAN
METHOD:PUBLISH
UID:8c1c104f-ea4d-4dbd-a000-8e1419792a95
X-WR-CALDESC:The Arc Montgomery County honors our community partners\, staf
 f and volunteers each year at our Community\, Staff & Volunteer Awards cer
 emony.  The individuals and/or groups we honor provide many hours of suppo
 rt\, dedication\, leadership\, and above all\, a strong commitment to conn
 ecting people of all ages and abilities with their communities to build in
 clusive and fulfilling lives.  This year’s awards represent service provid
 ed from July 1\, 2020 to June 30\, 2021.
X-WR-RELCALID:13a618d65dc93a18548177109019cb07
X-WR-TIMEZONE:America/New_York
BEGIN:VTIMEZONE
TZID:America/New_York
BEGIN:STANDARD
TZNAME:EST
DTSTART:20201101T020000
TZOFFSETFROM:-0400
TZOFFSETTO:-0500
RDATE:20211107T020000
RDATE:20221106T020000
END:STANDARD
BEGIN:DAYLIGHT
TZNAME:EDT
DTSTART:20210314T020000
TZOFFSETFROM:-0500
TZOFFSETTO:-0400
RDATE:20220313T020000
END:DAYLIGHT
END:VTIMEZONE
BEGIN:VEVENT
UID:e060eed1-8af8-44ee-978d-446f2de47783
DTSTAMP:20260422T225110Z
DESCRIPTION:The Arc Montgomery County honors our community partners\, staff
  and volunteers each year at our Community\, Staff & Volunteer Awards cere
 mony.  The individuals and/or groups we honor provide many hours of suppor
 t\, dedication\, leadership\, and above all\, a strong commitment to conne
 cting people of all ages and abilities with their communities to build inc
 lusive and fulfilling lives.  This year’s awards represent service provide
 d from July 1\, 2020 to June 30\, 2021.
DTSTART;TZID=America/New_York:20210901T000000
DTEND;TZID=America/New_York:20210901T235900
LOCATION:Going beyond expectations. Rising above obstacles.
SUMMARY:Nominate A Star Deadline
END:VEVENT
END:VCALENDAR
