BEGIN:VCALENDAR
VERSION:2.0
PRODID:-//thearcmontgomerycounty.org//NONSGML kigkonsult.se iCalcreator 2.3
 0.10//
CALSCALE:GREGORIAN
METHOD:PUBLISH
UID:0a84b586-3c01-4bc6-902c-59ec810438b8
X-WR-CALDESC:Family members of adults <b>supported by The Arc Montgomery Co
 unty</b> are invited to a conversation with CEO Daria Cervantes.  \n\nRegi
 stration closes at 11:30 pm on the Thursday prior to the event. Zoom login
  details will be sent out the morning of the event.
X-WR-RELCALID:15f173abaed2d5fa1501e86f23afb264
X-WR-TIMEZONE:America/New_York
BEGIN:VTIMEZONE
TZID:America/New_York
BEGIN:STANDARD
TZNAME:EST
DTSTART:20201101T020000
TZOFFSETFROM:-0400
TZOFFSETTO:-0500
RDATE:20211107T020000
RDATE:20221106T020000
END:STANDARD
BEGIN:DAYLIGHT
TZNAME:EDT
DTSTART:20210314T020000
TZOFFSETFROM:-0500
TZOFFSETTO:-0400
RDATE:20220313T020000
RDATE:20230312T020000
END:DAYLIGHT
END:VTIMEZONE
BEGIN:VEVENT
UID:18a7600f-1543-4e51-b530-3aa02c93b9a9
DTSTAMP:20260423T001912Z
DESCRIPTION:Family members of adults <b>supported by The Arc Montgomery Cou
 nty</b> are invited to a conversation with CEO Daria Cervantes.  \n\nRegis
 tration closes at 11:30 pm on the Thursday prior to the event. Zoom login 
 details will be sent out the morning of the event.
DTSTART;TZID=America/New_York:20211015T150000
DTEND;TZID=America/New_York:20211015T154500
LOCATION:Zoom Meeting\; Details Provided After Registration
SUMMARY:Discussion with Daria–For Family Members of Adults Supported Only
END:VEVENT
END:VCALENDAR
