BEGIN:VCALENDAR
VERSION:2.0
PRODID:-//thearcmontgomerycounty.org//NONSGML kigkonsult.se iCalcreator 2.3
 0.10//
CALSCALE:GREGORIAN
METHOD:PUBLISH
UID:1913215f-6ef2-41b2-a877-ca45f559d064
X-WR-CALDESC:At the request of John Gould's family\, The Arc Montgomery Cou
 nty invites John's friends\, family and colleagues to remember his life an
 d legacy.\n\nRegistration is required for this event\, and will close at 1
 2 pm on Wednesday\, October 27. Zoom login details will be sent by email b
 y 2 pm on the day of the event.\n\nYou are encouraged to forward this even
 t invitation and share with individuals that knew John\, but please do not
  share on social media.
X-WR-RELCALID:4077e1de71667217776492d33766efe8
X-WR-TIMEZONE:America/New_York
BEGIN:VTIMEZONE
TZID:America/New_York
BEGIN:STANDARD
TZNAME:EST
DTSTART:20201101T020000
TZOFFSETFROM:-0400
TZOFFSETTO:-0500
RDATE:20211107T020000
RDATE:20221106T020000
END:STANDARD
BEGIN:DAYLIGHT
TZNAME:EDT
DTSTART:20210314T020000
TZOFFSETFROM:-0500
TZOFFSETTO:-0400
RDATE:20220313T020000
RDATE:20230312T020000
END:DAYLIGHT
END:VTIMEZONE
BEGIN:VEVENT
UID:0582fc96-603f-42df-a788-ec414a58a49d
DTSTAMP:20260423T001913Z
DESCRIPTION:At the request of John Gould's family\, The Arc Montgomery Coun
 ty invites John's friends\, family and colleagues to remember his life and
  legacy.\n\nRegistration is required for this event\, and will close at 12
  pm on Wednesday\, October 27. Zoom login details will be sent by email by
  2 pm on the day of the event.\n\nYou are encouraged to forward this event
  invitation and share with individuals that knew John\, but please do not 
 share on social media.
DTSTART;TZID=America/New_York:20211027T190000
DTEND;TZID=America/New_York:20211027T200000
LOCATION:Zoom Meeting\; Details Provided After Registration
SUMMARY:Remembrance Ceremony for John Gould
END:VEVENT
END:VCALENDAR
