BEGIN:VCALENDAR
VERSION:2.0
PRODID:-//thearcmontgomerycounty.org//NONSGML kigkonsult.se iCalcreator 2.3
 0.10//
CALSCALE:GREGORIAN
METHOD:PUBLISH
UID:e67e194b-4c75-470b-9075-4fda73cb6f87
X-WR-CALDESC:Family members of children and youth <b>supported by The Arc M
 ontgomery County</b> are invited to a conversation with CEO Daria Cervante
 s.  \n\nRegistration closes at 11:30 pm on the Thursday prior to the event
 .
X-WR-RELCALID:031b6d0a9e9dcbd65368d05858f8a492
X-WR-TIMEZONE:America/New_York
BEGIN:VTIMEZONE
TZID:America/New_York
BEGIN:STANDARD
TZNAME:EST
DTSTART:20201101T020000
TZOFFSETFROM:-0400
TZOFFSETTO:-0500
RDATE:20211107T020000
RDATE:20221106T020000
END:STANDARD
BEGIN:DAYLIGHT
TZNAME:EDT
DTSTART:20210314T020000
TZOFFSETFROM:-0500
TZOFFSETTO:-0400
RDATE:20220313T020000
RDATE:20230312T020000
END:DAYLIGHT
END:VTIMEZONE
BEGIN:VEVENT
UID:55af1f7e-b589-41ea-ab33-616f7174caf4
DTSTAMP:20260423T001732Z
DESCRIPTION:Family members of children and youth <b>supported by The Arc Mo
 ntgomery County</b> are invited to a conversation with CEO Daria Cervantes
 .  \n\nRegistration closes at 11:30 pm on the Thursday prior to the event.
DTSTART;TZID=America/New_York:20211029T150000
DTEND;TZID=America/New_York:20211029T154500
LOCATION:Zoom Meeting\; Details Provided After Registration
SUMMARY:Discussion with Daria–For Children & Youth Services Families Only -
  CANCELLED
END:VEVENT
END:VCALENDAR
