BEGIN:VCALENDAR
VERSION:2.0
PRODID:-//thearcmontgomerycounty.org//NONSGML kigkonsult.se iCalcreator 2.3
 0.10//
CALSCALE:GREGORIAN
METHOD:PUBLISH
UID:0e6e904a-9ae0-4cc7-ae65-deb2ebe4caa5
X-WR-CALDESC:
X-WR-RELCALID:81bc4c345c193ccb5b7461a0e8815136
X-WR-TIMEZONE:America/New_York
BEGIN:VTIMEZONE
TZID:America/New_York
BEGIN:STANDARD
TZNAME:EST
DTSTART:20211107T020000
TZOFFSETFROM:-0400
TZOFFSETTO:-0500
RDATE:20221106T020000
END:STANDARD
BEGIN:DAYLIGHT
TZNAME:EDT
DTSTART:20210314T020000
TZOFFSETFROM:-0500
TZOFFSETTO:-0400
RDATE:20220313T020000
RDATE:20230312T020000
END:DAYLIGHT
END:VTIMEZONE
BEGIN:VEVENT
UID:4ab095c0-209c-40cf-84cf-31088d822a7c
DTSTAMP:20260423T015538Z
DESCRIPTION:
DTSTART;TZID=America/New_York:20211104T170000
DTEND;TZID=America/New_York:20211104T190000
LOCATION:Urban Thrift
SUMMARY:Urban Thrift Open House
END:VEVENT
END:VCALENDAR
