BEGIN:VCALENDAR
VERSION:2.0
PRODID:-//thearcmontgomerycounty.org//NONSGML kigkonsult.se iCalcreator 2.3
 0.10//
CALSCALE:GREGORIAN
METHOD:PUBLISH
UID:5efe72e9-57c8-47a9-8d79-0228e1a422b8
X-WR-CALDESC:Adults <b>supported by The Arc Montgomery County</b> are invit
 ed to a conversation with CEO Daria Cervantes.  \n\nRegistration closes at
  11:30 pm on the Thursday prior to the event.
X-WR-RELCALID:5618543e207e11ac5ff1c7e91136c76b
X-WR-TIMEZONE:America/New_York
BEGIN:VTIMEZONE
TZID:America/New_York
BEGIN:STANDARD
TZNAME:EST
DTSTART:20211107T020000
TZOFFSETFROM:-0400
TZOFFSETTO:-0500
RDATE:20221106T020000
END:STANDARD
BEGIN:DAYLIGHT
TZNAME:EDT
DTSTART:20210314T020000
TZOFFSETFROM:-0500
TZOFFSETTO:-0400
RDATE:20220313T020000
RDATE:20230312T020000
END:DAYLIGHT
END:VTIMEZONE
BEGIN:VEVENT
UID:88ede310-e661-4efc-9cb7-00e74b9f34f0
DTSTAMP:20260423T031143Z
DESCRIPTION:Adults <b>supported by The Arc Montgomery County</b> are invite
 d to a conversation with CEO Daria Cervantes.  \n\nRegistration closes at 
 11:30 pm on the Thursday prior to the event.
DTSTART;TZID=America/New_York:20211105T150000
DTEND;TZID=America/New_York:20211105T154500
LOCATION:Zoom Meeting\; Details Provided After Registration
SUMMARY:Discussion with Daria–For Self-Advocates in Adult Services Only
END:VEVENT
END:VCALENDAR
