BEGIN:VCALENDAR
VERSION:2.0
PRODID:-//thearcmontgomerycounty.org//NONSGML kigkonsult.se iCalcreator 2.3
 0.10//
CALSCALE:GREGORIAN
METHOD:PUBLISH
UID:d7682c60-65c6-4c95-bb2c-e757968010f8
X-WR-CALDESC:Offices closed.\nChildren & Youth Services programs closed.\nV
 ocational & Day Services programs closed.
X-WR-RELCALID:136f7003d279468dfe37a3d6523dfc0e
X-WR-TIMEZONE:America/New_York
BEGIN:VTIMEZONE
TZID:America/New_York
BEGIN:STANDARD
TZNAME:EST
DTSTART:20211107T020000
TZOFFSETFROM:-0400
TZOFFSETTO:-0500
RDATE:20221106T020000
END:STANDARD
BEGIN:DAYLIGHT
TZNAME:EDT
DTSTART:20210314T020000
TZOFFSETFROM:-0500
TZOFFSETTO:-0400
RDATE:20220313T020000
RDATE:20230312T020000
END:DAYLIGHT
END:VTIMEZONE
BEGIN:VEVENT
UID:c9671249-7817-4513-8c52-33ed139aea24
DTSTAMP:20260423T014827Z
DESCRIPTION:Offices closed.\nChildren & Youth Services programs closed.\nVo
 cational & Day Services programs closed.
DTSTART;TZID=America/New_York:20211125T000000
DTEND;TZID=America/New_York:20211125T235900
LOCATION:
SUMMARY:Thanksgiving Day Holiday
END:VEVENT
END:VCALENDAR
