BEGIN:VCALENDAR
VERSION:2.0
PRODID:-//thearcmontgomerycounty.org//NONSGML kigkonsult.se iCalcreator 2.3
 0.10//
CALSCALE:GREGORIAN
METHOD:PUBLISH
UID:690933f2-9671-4edd-a66f-90123e4a8d22
X-WR-CALDESC:Offices closed.\nChildren & Youth Services programs closed.\nV
 ocational & Day Services programs closed.
X-WR-RELCALID:15fa5027cb101a247f11c2304d4a2d97
X-WR-TIMEZONE:America/New_York
BEGIN:VTIMEZONE
TZID:America/New_York
BEGIN:STANDARD
TZNAME:EST
DTSTART:20211107T020000
TZOFFSETFROM:-0400
TZOFFSETTO:-0500
RDATE:20221106T020000
END:STANDARD
BEGIN:DAYLIGHT
TZNAME:EDT
DTSTART:20210314T020000
TZOFFSETFROM:-0500
TZOFFSETTO:-0400
RDATE:20220313T020000
RDATE:20230312T020000
END:DAYLIGHT
END:VTIMEZONE
BEGIN:VEVENT
UID:b8fac489-c183-4553-819b-5281257aafde
DTSTAMP:20260423T015411Z
DESCRIPTION:Offices closed.\nChildren & Youth Services programs closed.\nVo
 cational & Day Services programs closed.
DTSTART;TZID=America/New_York:20211126T000000
DTEND;TZID=America/New_York:20211126T235900
LOCATION:
SUMMARY:Thanksgiving Friday Holiday
END:VEVENT
END:VCALENDAR
