BEGIN:VCALENDAR
VERSION:2.0
PRODID:-//thearcmontgomerycounty.org//NONSGML kigkonsult.se iCalcreator 2.3
 0.10//
CALSCALE:GREGORIAN
METHOD:PUBLISH
UID:ab783126-cd15-4521-a184-9605ebd515a6
X-WR-CALDESC:Build your own network alongside Montgomery County business le
 aders while making a difference in the lives of children\, youth\, adults 
 and seniors supported by The Arc Montgomery County.\n\nTicket sales end at
  5 pm on Sunday\, March 27\, 2022.
X-WR-RELCALID:43ebc1d256ddcd36c8521326e70e46ce
X-WR-TIMEZONE:America/New_York
BEGIN:VTIMEZONE
TZID:America/New_York
BEGIN:STANDARD
TZNAME:EST
DTSTART:20211107T020000
TZOFFSETFROM:-0400
TZOFFSETTO:-0500
RDATE:20221106T020000
END:STANDARD
BEGIN:DAYLIGHT
TZNAME:EDT
DTSTART:20220313T020000
TZOFFSETFROM:-0500
TZOFFSETTO:-0400
RDATE:20230312T020000
END:DAYLIGHT
END:VTIMEZONE
BEGIN:VEVENT
UID:044cecfe-3323-4f0c-98cc-218bf22220ea
DTSTAMP:20260422T195544Z
DESCRIPTION:Build your own network alongside Montgomery County business lea
 ders while making a difference in the lives of children\, youth\, adults a
 nd seniors supported by The Arc Montgomery County.\n\nTicket sales end at 
 5 pm on Sunday\, March 27\, 2022.
DTSTART;TZID=America/New_York:20220330T080000
DTEND;TZID=America/New_York:20220330T090000
LOCATION:BUSINESS TO BUSINESS NETWORKING | VIRTUAL
SUMMARY:Coffee & Conversation
END:VEVENT
END:VCALENDAR
