BEGIN:VCALENDAR
VERSION:2.0
PRODID:-//thearcmontgomerycounty.org//NONSGML kigkonsult.se iCalcreator 2.3
 0.10//
CALSCALE:GREGORIAN
METHOD:PUBLISH
UID:f5fef678-602e-4068-8c0a-2cda0c0694e0
X-WR-CALDESC:Meet the Leadership Team of The Arc Montgomery County! Join th
 e team on Zoom to hear an overview of each division with time for Q&A.\n\n
 This event is open to family members of all people of all ages supported b
 y The Arc Montgomery County.
X-WR-RELCALID:1d01569e11727970c28fd2a389b03971
X-WR-TIMEZONE:America/New_York
BEGIN:VTIMEZONE
TZID:America/New_York
BEGIN:STANDARD
TZNAME:EST
DTSTART:20231105T020000
TZOFFSETFROM:-0400
TZOFFSETTO:-0500
RDATE:20241103T020000
END:STANDARD
BEGIN:DAYLIGHT
TZNAME:EDT
DTSTART:20230312T020000
TZOFFSETFROM:-0500
TZOFFSETTO:-0400
RDATE:20240310T020000
RDATE:20250309T020000
END:DAYLIGHT
END:VTIMEZONE
BEGIN:VEVENT
UID:a1e5ba40-5e0b-46c0-a4fd-e851d7eea487
DTSTAMP:20260421T212953Z
DESCRIPTION:Meet the Leadership Team of The Arc Montgomery County! Join the
  team on Zoom to hear an overview of each division with time for Q&A.\n\nT
 his event is open to family members of all people of all ages supported by
  The Arc Montgomery County.
DTSTART;TZID=America/New_York:20240212T190000
DTEND;TZID=America/New_York:20240212T200000
LOCATION:Zoom Meeting\; Details Provided After Registration
SUMMARY:Links to Leadership – For Family Members Only
END:VEVENT
END:VCALENDAR
