BEGIN:VCALENDAR
VERSION:2.0
PRODID:-//thearcmontgomerycounty.org//NONSGML kigkonsult.se iCalcreator 2.3
 0.10//
CALSCALE:GREGORIAN
METHOD:PUBLISH
UID:1617acf9-6107-4669-a231-223f6816d058
X-WR-CALDESC:Offices closed.\nChildren & Youth Services programs closed.\nE
 mployment & Meaningful Day Services programs closed.
X-WR-RELCALID:a5a7f15413e9249bf8ee3b01a1132f7a
X-WR-TIMEZONE:America/New_York
BEGIN:VTIMEZONE
TZID:America/New_York
BEGIN:STANDARD
TZNAME:EST
DTSTART:20241103T020000
TZOFFSETFROM:-0400
TZOFFSETTO:-0500
RDATE:20251102T020000
RDATE:20261101T020000
END:STANDARD
BEGIN:DAYLIGHT
TZNAME:EDT
DTSTART:20250309T020000
TZOFFSETFROM:-0500
TZOFFSETTO:-0400
RDATE:20260308T020000
END:DAYLIGHT
END:VTIMEZONE
BEGIN:VEVENT
UID:87cdff6c-da40-4e1d-8afc-a6cb6e7d6d91
DTSTAMP:20260421T023916Z
DESCRIPTION:Offices closed.\nChildren & Youth Services programs closed.\nEm
 ployment & Meaningful Day Services programs closed.
DTSTART;TZID=America/New_York:20250619T060000
DTEND;TZID=America/New_York:20250619T060001
LOCATION:
SUMMARY:Juneteenth Holiday
END:VEVENT
END:VCALENDAR
