BEGIN:VCALENDAR
VERSION:2.0
PRODID:-//thearcmontgomerycounty.org//NONSGML kigkonsult.se iCalcreator 2.3
 0.10//
CALSCALE:GREGORIAN
METHOD:PUBLISH
UID:89a9ca40-670c-4eee-8e80-eba680cc4d02
X-WR-CALDESC:Join us as we honor the accomplishments of our Direct Support 
 Professional (DSP) Fellows! This special celebration is open to employees 
 and board members of The Arc Montgomery County and invited guests of our F
 ellows. Let's applaud their hard work and their bright futures ahead!
X-WR-RELCALID:9cfa1400055b46c3cd044d8a16ee2ebb
X-WR-TIMEZONE:America/New_York
BEGIN:VTIMEZONE
TZID:America/New_York
BEGIN:STANDARD
TZNAME:EST
DTSTART:20241103T020000
TZOFFSETFROM:-0400
TZOFFSETTO:-0500
RDATE:20251102T020000
RDATE:20261101T020000
END:STANDARD
BEGIN:DAYLIGHT
TZNAME:EDT
DTSTART:20250309T020000
TZOFFSETFROM:-0500
TZOFFSETTO:-0400
RDATE:20260308T020000
END:DAYLIGHT
END:VTIMEZONE
BEGIN:VEVENT
UID:9f7153d8-d607-43b9-b67a-4381d8c8bcff
DTSTAMP:20260421T041319Z
DESCRIPTION:Join us as we honor the accomplishments of our Direct Support P
 rofessional (DSP) Fellows! This special celebration is open to employees a
 nd board members of The Arc Montgomery County and invited guests of our Fe
 llows. Let's applaud their hard work and their bright futures ahead!
DTSTART;TZID=America/New_York:20250620T100000
DTEND;TZID=America/New_York:20250620T120000
LOCATION:7362 Calhoun Place\, Rockville\, MD 20855 US
SUMMARY:Empowering Abilities DSP Fellowship Graduation 
END:VEVENT
END:VCALENDAR
