BEGIN:VCALENDAR
VERSION:2.0
PRODID:-//thearcmontgomerycounty.org//NONSGML kigkonsult.se iCalcreator 2.3
 0.10//
CALSCALE:GREGORIAN
METHOD:PUBLISH
UID:8b0cc07d-b01f-4fe6-bcde-959178469a64
X-WR-CALDESC:Dr. Karyn Harvey will be conducting follow-up grief training f
 or people supported. Dr. Harvey has worked as a clinician in the field of 
 intellectual disabilities for more than 35 years. She is an author and has
  her Ph.D. in Applied Developmental Psychology from the University of Mary
 land.
X-WR-RELCALID:708d51d294b0c035174048bd96cd0d3c
X-WR-TIMEZONE:America/New_York
BEGIN:VTIMEZONE
TZID:America/New_York
BEGIN:STANDARD
TZNAME:EST
DTSTART:20241103T020000
TZOFFSETFROM:-0400
TZOFFSETTO:-0500
RDATE:20251102T020000
RDATE:20261101T020000
END:STANDARD
BEGIN:DAYLIGHT
TZNAME:EDT
DTSTART:20250309T020000
TZOFFSETFROM:-0500
TZOFFSETTO:-0400
RDATE:20260308T020000
END:DAYLIGHT
END:VTIMEZONE
BEGIN:VEVENT
UID:bd3ff29c-3eed-40a5-b050-97bdb365675a
DTSTAMP:20260421T004853Z
DESCRIPTION:Dr. Karyn Harvey will be conducting follow-up grief training fo
 r people supported. Dr. Harvey has worked as a clinician in the field of i
 ntellectual disabilities for more than 35 years. She is an author and has 
 her Ph.D. in Applied Developmental Psychology from the University of Maryl
 and.
DTSTART;TZID=America/New_York:20250724T100000
DTEND;TZID=America/New_York:20250724T120000
LOCATION:7362 Calhoun Place\, Rockville\, AL 20855 US
SUMMARY:Grief training with Dr. Karyn Harvey for people supported
END:VEVENT
END:VCALENDAR
