BEGIN:VCALENDAR
VERSION:2.0
PRODID:-//thearcmontgomerycounty.org//NONSGML kigkonsult.se iCalcreator 2.3
 0.10//
CALSCALE:GREGORIAN
METHOD:PUBLISH
UID:e82a2bb8-2e34-4604-b586-d13719c10070
X-WR-CALDESC:Join us for the in-person gathering– it's going to be a blast!
  If you’re someone with intellectual and developmental disabilities in Mon
 tgomery County\, this is your space to connect with peers\, share your voi
 ce\, and have some fun.\n\nSTAND Together isn’t just about advocacy\; it’s
  about building a strong community. Whether you’re passionate about making
  a difference or just looking to socialize with others\, this is the event
  for you!\n\nBring your energy\, ideas\, and appetite as we gather to grow
  together and amplify our voices. Support staff are welcomed.\n\nSTAND Tog
 ether is part of Empowering Partners\, a statewide initiative to strengthe
 n local self-advocacy groups. Find out more about Empowering Partners at T
 he Arc Maryland: http://www.thearcmd.org/empowering-partners/\n\n
X-WR-RELCALID:64f2357cd2537469956a01bbbf69e949
X-WR-TIMEZONE:America/New_York
BEGIN:VTIMEZONE
TZID:America/New_York
BEGIN:STANDARD
TZNAME:EST
DTSTART:20241103T020000
TZOFFSETFROM:-0400
TZOFFSETTO:-0500
RDATE:20251102T020000
RDATE:20261101T020000
END:STANDARD
BEGIN:DAYLIGHT
TZNAME:EDT
DTSTART:20250309T020000
TZOFFSETFROM:-0500
TZOFFSETTO:-0400
RDATE:20260308T020000
END:DAYLIGHT
END:VTIMEZONE
BEGIN:VEVENT
UID:8c54db19-43fc-4358-b738-00a3e672c4a0
DTSTAMP:20260420T230807Z
DESCRIPTION:Join us for the in-person gathering– it's going to be a blast! 
 If you’re someone with intellectual and developmental disabilities in Mont
 gomery County\, this is your space to connect with peers\, share your voic
 e\, and have some fun.\n\nSTAND Together isn’t just about advocacy\; it’s 
 about building a strong community. Whether you’re passionate about making 
 a difference or just looking to socialize with others\, this is the event 
 for you!\n\nBring your energy\, ideas\, and appetite as we gather to grow 
 together and amplify our voices. Support staff are welcomed.\n\nSTAND Toge
 ther is part of Empowering Partners\, a statewide initiative to strengthen
  local self-advocacy groups. Find out more about Empowering Partners at Th
 e Arc Maryland: http://www.thearcmd.org/empowering-partners/\n\n
DTSTART;TZID=America/New_York:20250813T180000
DTEND;TZID=America/New_York:20250813T190000
LOCATION:7362 Calhoun Place\, Rockville\, MD 20855 US
SUMMARY:STAND Together–IN PERSON!
END:VEVENT
END:VCALENDAR
