BEGIN:VCALENDAR
VERSION:2.0
PRODID:-//thearcmontgomerycounty.org//NONSGML kigkonsult.se iCalcreator 2.3
 0.10//
CALSCALE:GREGORIAN
METHOD:PUBLISH
UID:55d3c419-caa0-46c4-88d9-8bb1048c31ea
X-WR-CALDESC:Come and hear about expanding opportunities for loved ones\, e
 mployment opportunities\, make connections and give us your feedback\, too
 !
X-WR-RELCALID:403b1bd34b00494a94d844e1ec8313ca
X-WR-TIMEZONE:America/New_York
BEGIN:VTIMEZONE
TZID:America/New_York
BEGIN:STANDARD
TZNAME:EST
DTSTART:20241103T020000
TZOFFSETFROM:-0400
TZOFFSETTO:-0500
RDATE:20251102T020000
RDATE:20261101T020000
END:STANDARD
BEGIN:DAYLIGHT
TZNAME:EDT
DTSTART:20250309T020000
TZOFFSETFROM:-0500
TZOFFSETTO:-0400
RDATE:20260308T020000
END:DAYLIGHT
END:VTIMEZONE
BEGIN:VEVENT
UID:090667e8-b121-4b31-b07d-d4357fb0d504
DTSTAMP:20260420T230925Z
DESCRIPTION:Come and hear about expanding opportunities for loved ones\, em
 ployment opportunities\, make connections and give us your feedback\, too!
DTSTART;TZID=America/New_York:20250827T180000
DTEND;TZID=America/New_York:20250827T200000
LOCATION:7362 Calhoun Place\, rockville\, MD 20855 US
SUMMARY:The Arc Montgomery County  Town Hall for Community Members\, People
  Supported & Families
END:VEVENT
END:VCALENDAR
