BEGIN:VCALENDAR
VERSION:2.0
PRODID:-//thearcmontgomerycounty.org//NONSGML kigkonsult.se iCalcreator 2.3
 0.10//
CALSCALE:GREGORIAN
METHOD:PUBLISH
UID:73317a6c-0be9-447f-9b78-3ea357168d4d
X-WR-CALDESC:Headquarters closed.\nChildren & Youth Services programs close
 d.\nEmployment & Meaningful Day Services programs closed.
X-WR-RELCALID:1b81da339a0325940ee90a80a7a4f12d
X-WR-TIMEZONE:America/New_York
BEGIN:VTIMEZONE
TZID:America/New_York
BEGIN:STANDARD
TZNAME:EST
DTSTART:20241103T020000
TZOFFSETFROM:-0400
TZOFFSETTO:-0500
RDATE:20251102T020000
RDATE:20261101T020000
END:STANDARD
BEGIN:DAYLIGHT
TZNAME:EDT
DTSTART:20250309T020000
TZOFFSETFROM:-0500
TZOFFSETTO:-0400
RDATE:20260308T020000
END:DAYLIGHT
END:VTIMEZONE
BEGIN:VEVENT
UID:03bc6705-afbf-45c4-a07b-4d5ca17941f9
DTSTAMP:20260420T214215Z
DESCRIPTION:Headquarters closed.\nChildren & Youth Services programs closed
 .\nEmployment & Meaningful Day Services programs closed.
DTSTART;TZID=America/New_York:20250901T060000
DTEND;TZID=America/New_York:20250901T060001
LOCATION:
SUMMARY:Labor Day  Holiday
END:VEVENT
END:VCALENDAR
