BEGIN:VCALENDAR
VERSION:2.0
PRODID:-//thearcmontgomerycounty.org//NONSGML kigkonsult.se iCalcreator 2.3
 0.10//
CALSCALE:GREGORIAN
METHOD:PUBLISH
UID:2706a4ae-e2f8-4233-a94f-122951306603
X-WR-CALDESC:Join us for the in-person gathering– it's going to be a blast!
  If you’re someone with intellectual and developmental disabilities in Mon
 tgomery County\, this is your space to connect with peers\, share your voi
 ce\, and have some fun.\n\nJustin Valenti is our guest speaker and he will
  be sharing on the theme Advocacy Through Art. \nJustin is a 28 year-old a
 rtist and author who lives in Maryland. A long time advocate for people wi
 th IDD\, he also serves  on the board of The Arc Maryland. Learn more abou
 t the artist and advocate at www.jkvalenti2014.com\n\nSTAND Together isn’t
  just about advocacy\; it’s about building a strong community. Whether you
 ’re passionate about making a difference or just looking to socialize with
  others\, this is the event for you!\n\nSTAND Together is part of Empoweri
 ng Partners\, a statewide initiative to strengthen local self-advocacy gro
 ups. Find out more about Empowering Partners at The Arc Maryland: http://w
 ww.thearcmd.org/empowering-partners/
X-WR-RELCALID:473fb82901b7e7162358bd87a44c75e1
X-WR-TIMEZONE:America/New_York
BEGIN:VTIMEZONE
TZID:America/New_York
BEGIN:STANDARD
TZNAME:EST
DTSTART:20241103T020000
TZOFFSETFROM:-0400
TZOFFSETTO:-0500
RDATE:20251102T020000
RDATE:20261101T020000
END:STANDARD
BEGIN:DAYLIGHT
TZNAME:EDT
DTSTART:20250309T020000
TZOFFSETFROM:-0500
TZOFFSETTO:-0400
RDATE:20260308T020000
END:DAYLIGHT
END:VTIMEZONE
BEGIN:VEVENT
UID:eb99addc-663e-452c-925b-d1141c9b7051
DTSTAMP:20260420T214226Z
DESCRIPTION:Join us for the in-person gathering– it's going to be a blast! 
 If you’re someone with intellectual and developmental disabilities in Mont
 gomery County\, this is your space to connect with peers\, share your voic
 e\, and have some fun.\n\nJustin Valenti is our guest speaker and he will 
 be sharing on the theme Advocacy Through Art. \nJustin is a 28 year-old ar
 tist and author who lives in Maryland. A long time advocate for people wit
 h IDD\, he also serves  on the board of The Arc Maryland. Learn more about
  the artist and advocate at www.jkvalenti2014.com\n\nSTAND Together isn’t 
 just about advocacy\; it’s about building a strong community. Whether you’
 re passionate about making a difference or just looking to socialize with 
 others\, this is the event for you!\n\nSTAND Together is part of Empowerin
 g Partners\, a statewide initiative to strengthen local self-advocacy grou
 ps. Find out more about Empowering Partners at The Arc Maryland: http://ww
 w.thearcmd.org/empowering-partners/
DTSTART;TZID=America/New_York:20250910T180000
DTEND;TZID=America/New_York:20250910T190000
LOCATION:7362 Calhoun Place\, Rockville\, MD 20855 US
SUMMARY:STAND Together–IN PERSON!
END:VEVENT
END:VCALENDAR
