BEGIN:VCALENDAR
VERSION:2.0
PRODID:-//thearcmontgomerycounty.org//NONSGML kigkonsult.se iCalcreator 2.3
 0.10//
CALSCALE:GREGORIAN
METHOD:PUBLISH
UID:b428d50e-635a-4255-b27b-e2f65bc89623
X-WR-CALDESC:Get ready for a weekend full of laughter and impact! We’ve tea
 med up with Give a Hoot Comedy Club for two epic nights of comedy featurin
 g the hilarious Moody McCarthy. Mark your calendars for Friday\, September
  12\, and Saturday\, September 13\, because you won’t want to miss this!\n
 \nHave fun laughing so hard you’ll (almost) fall out of your chair\, all w
 hile raising funds for The Arc Montgomery County’s STAND Together advocacy
  group.\n\nSTAND Together is a powerful team of advocates with lived exper
 iences\, dedicated to driving change for the intellectual and developmenta
 l disabilities (IDD) community in Montgomery County. And here’s the best p
 art: 50% of the weekend’s proceeds will directly support their incredible 
 work.\n\nThis is your chance to have an unforgettable night out while givi
 ng back to your community! Bring your crew for an evening packed with good
  vibes\, and feel great knowing you’re making a difference.\n\nAdvance tic
 kets are only $20 ($25 at the door). Doors open at 7 pm on Friday and Satu
 rday\, with shows starting promptly an hour later. Plus\, parking is free!
  Give a Hoot Comedy Club\, located inside La Mexicana at 16143 Shady Grove
  Road\, Gaithersburg\, MD\, offers a full menu of food and drinks to keep 
 you fueled for a night of non-stop laughter.\n\nGrab your tickets\, bring 
 your friends\, and join us for a weekend of comedy that makes a difference
 !\n\nSee you there!
X-WR-RELCALID:6af66f776d09dee9959c271435d439ed
X-WR-TIMEZONE:America/New_York
BEGIN:VTIMEZONE
TZID:America/New_York
BEGIN:STANDARD
TZNAME:EST
DTSTART:20241103T020000
TZOFFSETFROM:-0400
TZOFFSETTO:-0500
RDATE:20251102T020000
RDATE:20261101T020000
END:STANDARD
BEGIN:DAYLIGHT
TZNAME:EDT
DTSTART:20250309T020000
TZOFFSETFROM:-0500
TZOFFSETTO:-0400
RDATE:20260308T020000
RDATE:20270314T020000
END:DAYLIGHT
END:VTIMEZONE
BEGIN:VEVENT
UID:4a311aec-e641-4d17-9f67-1db10bcdfe98
DTSTAMP:20260420T214740Z
DESCRIPTION:Get ready for a weekend full of laughter and impact! We’ve team
 ed up with Give a Hoot Comedy Club for two epic nights of comedy featuring
  the hilarious Moody McCarthy. Mark your calendars for Friday\, September 
 12\, and Saturday\, September 13\, because you won’t want to miss this!\n
 \nHave fun laughing so hard you’ll (almost) fall out of your chair\, all w
 hile raising funds for The Arc Montgomery County’s STAND Together advocacy
  group.\n\nSTAND Together is a powerful team of advocates with lived exper
 iences\, dedicated to driving change for the intellectual and developmenta
 l disabilities (IDD) community in Montgomery County. And here’s the best p
 art: 50% of the weekend’s proceeds will directly support their incredible 
 work.\n\nThis is your chance to have an unforgettable night out while givi
 ng back to your community! Bring your crew for an evening packed with good
  vibes\, and feel great knowing you’re making a difference.\n\nAdvance tic
 kets are only $20 ($25 at the door). Doors open at 7 pm on Friday and Satu
 rday\, with shows starting promptly an hour later. Plus\, parking is free!
  Give a Hoot Comedy Club\, located inside La Mexicana at 16143 Shady Grove
  Road\, Gaithersburg\, MD\, offers a full menu of food and drinks to keep 
 you fueled for a night of non-stop laughter.\n\nGrab your tickets\, bring 
 your friends\, and join us for a weekend of comedy that makes a difference
 !\n\nSee you there!
DTSTART;TZID=America/New_York:20250913T190000
DTEND;TZID=America/New_York:20250913T220000
LOCATION:Give a Hoot Comedy Club\, 16143 Shady Grove Rd\, Gaithersburg\, MD
  20877 US
SUMMARY:Comedy for a Cause - Give a Hoot Comedy Club
END:VEVENT
END:VCALENDAR
