BEGIN:VCALENDAR
VERSION:2.0
PRODID:-//thearcmontgomerycounty.org//NONSGML kigkonsult.se iCalcreator 2.3
 0.10//
CALSCALE:GREGORIAN
METHOD:PUBLISH
UID:adb5b1a0-f809-4b1a-9465-4c414727873a
X-WR-CALDESC:Consortium members are invited to visit The Arc Montgomery Cou
 nty's headquarters to review the guidelines of participating in the Respit
 e Coordination program.
X-WR-RELCALID:1234d5082e3bd8f288ee17fdc7f52051
X-WR-TIMEZONE:America/New_York
BEGIN:VTIMEZONE
TZID:America/New_York
BEGIN:STANDARD
TZNAME:EST
DTSTART:20241103T020000
TZOFFSETFROM:-0400
TZOFFSETTO:-0500
RDATE:20251102T020000
RDATE:20261101T020000
END:STANDARD
BEGIN:DAYLIGHT
TZNAME:EDT
DTSTART:20250309T020000
TZOFFSETFROM:-0500
TZOFFSETTO:-0400
RDATE:20260308T020000
RDATE:20270314T020000
END:DAYLIGHT
END:VTIMEZONE
BEGIN:VEVENT
UID:2a4c81e1-4437-4ef4-9fa6-b62f14b20b86
DTSTAMP:20260420T214231Z
DESCRIPTION:Consortium members are invited to visit The Arc Montgomery Coun
 ty's headquarters to review the guidelines of participating in the Respite
  Coordination program.
DTSTART;TZID=America/New_York:20250918T130000
DTEND;TZID=America/New_York:20250918T150000
LOCATION:7362 Calhoun Place\, Rockville\, MD 20855 US
SUMMARY:Respite Consortium Member Meeting
END:VEVENT
END:VCALENDAR
