BEGIN:VCALENDAR
VERSION:2.0
PRODID:-//thearcmontgomerycounty.org//NONSGML kigkonsult.se iCalcreator 2.3
 0.10//
CALSCALE:GREGORIAN
METHOD:PUBLISH
UID:a6367623-d5ac-4bc5-941b-c9a513f1e158
X-WR-CALDESC:Consortium members are invited to visit The Arc Montgomery Cou
 nty's headquarters to review the guidelines of participating in the Respit
 e Coordination program.
X-WR-RELCALID:e24d1848f33680f3ed29795f9e7b32a0
X-WR-TIMEZONE:America/New_York
BEGIN:VTIMEZONE
TZID:America/New_York
BEGIN:STANDARD
TZNAME:EST
DTSTART:20241103T020000
TZOFFSETFROM:-0400
TZOFFSETTO:-0500
RDATE:20251102T020000
RDATE:20261101T020000
END:STANDARD
BEGIN:DAYLIGHT
TZNAME:EDT
DTSTART:20250309T020000
TZOFFSETFROM:-0500
TZOFFSETTO:-0400
RDATE:20260308T020000
RDATE:20270314T020000
END:DAYLIGHT
END:VTIMEZONE
BEGIN:VEVENT
UID:7b986e44-11e4-4d98-b9b7-75c57da0e8cb
DTSTAMP:20260420T214241Z
DESCRIPTION:Consortium members are invited to visit The Arc Montgomery Coun
 ty's headquarters to review the guidelines of participating in the Respite
  Coordination program.
DTSTART;TZID=America/New_York:20250918T100000
DTEND;TZID=America/New_York:20250918T120000
LOCATION:7362 Calhoun Place\, Rockville\, MD 20855 US
SUMMARY:Respite Consortium Member Meeting
END:VEVENT
END:VCALENDAR
