BEGIN:VCALENDAR
VERSION:2.0
PRODID:-//thearcmontgomerycounty.org//NONSGML kigkonsult.se iCalcreator 2.3
 0.10//
CALSCALE:GREGORIAN
METHOD:PUBLISH
UID:b775328a-3441-4f4e-9256-4159c9bc7d2c
X-WR-CALDESC:Join us for the in-person gathering! This month the focus is o
 n safety. There will be a special guest from the Montgomery County Police 
 Department's Autism/IDD (Intellectual and Developmental Disabilities)\, Al
 zheimer's and Dementia Outreach Program. Learn more about the program by f
 ollowing www.montgomerycountymd.gov/pol/howdoI/autism-alzheimer-outreach.h
 tml\n\nSTAND Together isn’t just about advocacy\; it’s about building a st
 rong community. Whether you’re passionate about making a difference or jus
 t looking to socialize with others\, this is the event for you!\n\nSTAND T
 ogether is part of Empowering Partners\, a statewide initiative to strengt
 hen local self-advocacy groups. Find out more about Empowering Partners at
  The Arc Maryland: http://www.thearcmd.org/empowering-partners/
X-WR-RELCALID:267417fcd969ceef87b6f80088124155
X-WR-TIMEZONE:America/New_York
BEGIN:VTIMEZONE
TZID:America/New_York
BEGIN:STANDARD
TZNAME:EST
DTSTART:20241103T020000
TZOFFSETFROM:-0400
TZOFFSETTO:-0500
RDATE:20251102T020000
RDATE:20261101T020000
END:STANDARD
BEGIN:DAYLIGHT
TZNAME:EDT
DTSTART:20250309T020000
TZOFFSETFROM:-0500
TZOFFSETTO:-0400
RDATE:20260308T020000
RDATE:20270314T020000
END:DAYLIGHT
END:VTIMEZONE
BEGIN:VEVENT
UID:12a800de-0799-4f79-8e6d-6f69c0faf362
DTSTAMP:20260420T195803Z
DESCRIPTION:Join us for the in-person gathering! This month the focus is on
  safety. There will be a special guest from the Montgomery County Police D
 epartment's Autism/IDD (Intellectual and Developmental Disabilities)\, Alz
 heimer's and Dementia Outreach Program. Learn more about the program by fo
 llowing www.montgomerycountymd.gov/pol/howdoI/autism-alzheimer-outreach.ht
 ml\n\nSTAND Together isn’t just about advocacy\; it’s about building a str
 ong community. Whether you’re passionate about making a difference or just
  looking to socialize with others\, this is the event for you!\n\nSTAND To
 gether is part of Empowering Partners\, a statewide initiative to strength
 en local self-advocacy groups. Find out more about Empowering Partners at 
 The Arc Maryland: http://www.thearcmd.org/empowering-partners/
DTSTART;TZID=America/New_York:20251008T180000
DTEND;TZID=America/New_York:20251008T190000
LOCATION:7362 Calhoun Place\, Rockville\, MD 20855 US
SUMMARY:STAND Together–IN PERSON!
END:VEVENT
END:VCALENDAR
