BEGIN:VCALENDAR
VERSION:2.0
PRODID:-//thearcmontgomerycounty.org//NONSGML kigkonsult.se iCalcreator 2.3
 0.10//
CALSCALE:GREGORIAN
METHOD:PUBLISH
UID:06c26f9f-0903-4a1e-a799-a249bf15b2fc
X-WR-CALDESC:If you are the parent or guardian of a Montgomery County high 
 school student who attends a non-public school for special education servi
 ces and who is transitioning to adult services soon\, please join us for a
 n in-person information session on the Adult Services Programs of the Arc 
 Montgomery County. We have three adult services programs for adults who ar
 e approved for a Medicaid Waiver after high school: (1) Employment and Mea
 ningful Day Services\; (2) Personal Support Services\; and (3) Community L
 iving Services. At this information session program directors will provide
  overviews of their services and answer questions. \n\nSpace is limited so
  please register before the end of the day on Tuesday\, November 4\, 2025.
X-WR-RELCALID:21116cfab3c5a175e045f51186dff3ee
X-WR-TIMEZONE:America/New_York
BEGIN:VTIMEZONE
TZID:America/New_York
BEGIN:STANDARD
TZNAME:EST
DTSTART:20251102T020000
TZOFFSETFROM:-0400
TZOFFSETTO:-0500
RDATE:20261101T020000
END:STANDARD
BEGIN:DAYLIGHT
TZNAME:EDT
DTSTART:20250309T020000
TZOFFSETFROM:-0500
TZOFFSETTO:-0400
RDATE:20260308T020000
RDATE:20270314T020000
END:DAYLIGHT
END:VTIMEZONE
BEGIN:VEVENT
UID:b03e98e0-6448-43b0-97e4-c822c6710eb2
DTSTAMP:20260420T181606Z
DESCRIPTION:If you are the parent or guardian of a Montgomery County high s
 chool student who attends a non-public school for special education servic
 es and who is transitioning to adult services soon\, please join us for an
  in-person information session on the Adult Services Programs of the Arc M
 ontgomery County. We have three adult services programs for adults who are
  approved for a Medicaid Waiver after high school: (1) Employment and Mean
 ingful Day Services\; (2) Personal Support Services\; and (3) Community Li
 ving Services. At this information session program directors will provide 
 overviews of their services and answer questions. \n\nSpace is limited so 
 please register before the end of the day on Tuesday\, November 4\, 2025.
DTSTART;TZID=America/New_York:20251112T183000
DTEND;TZID=America/New_York:20251112T200000
LOCATION:7362 Calhoun Place\, Rockville\, MD 20855 US
SUMMARY:Information Session for Transitioning Youth at Non-Public Schools
END:VEVENT
END:VCALENDAR
