BEGIN:VCALENDAR
VERSION:2.0
PRODID:-//thearcmontgomerycounty.org//NONSGML kigkonsult.se iCalcreator 2.3
 0.10//
CALSCALE:GREGORIAN
METHOD:PUBLISH
UID:f06419d1-1d96-4dd5-b493-54f1ead8d7d0
X-WR-CALDESC:Headquarters closed.\nChildren & Youth Services programs close
 d.\nEmployment & Meaningful Day Services programs closed.
X-WR-RELCALID:e7315fc1680af2510af570bebfb6471f
X-WR-TIMEZONE:America/New_York
BEGIN:VTIMEZONE
TZID:America/New_York
BEGIN:STANDARD
TZNAME:EST
DTSTART:20251102T020000
TZOFFSETFROM:-0400
TZOFFSETTO:-0500
RDATE:20261101T020000
END:STANDARD
BEGIN:DAYLIGHT
TZNAME:EDT
DTSTART:20250309T020000
TZOFFSETFROM:-0500
TZOFFSETTO:-0400
RDATE:20260308T020000
RDATE:20270314T020000
END:DAYLIGHT
END:VTIMEZONE
BEGIN:VEVENT
UID:d6e29ca5-0e00-41c8-b304-2b784fe3987f
DTSTAMP:20260420T181714Z
DESCRIPTION:Headquarters closed.\nChildren & Youth Services programs closed
 .\nEmployment & Meaningful Day Services programs closed.
DTSTART;TZID=America/New_York:20251127T060000
DTEND;TZID=America/New_York:20251127T060001
LOCATION:
SUMMARY:Thanksgiving Day  Holiday
END:VEVENT
END:VCALENDAR
