BEGIN:VCALENDAR
VERSION:2.0
PRODID:-//thearcmontgomerycounty.org//NONSGML kigkonsult.se iCalcreator 2.3
 0.10//
CALSCALE:GREGORIAN
METHOD:PUBLISH
UID:558bfb45-1a9b-4933-a9fe-4c23812fc83b
X-WR-CALDESC:Join us for the in-person gathering! STAND Together isn’t just
  about advocacy\; it’s about building a strong community. Whether you’re p
 assionate about making a difference or just looking to socialize with othe
 rs\, this is the event for you!\n\nSTAND Together is part of Empowering Pa
 rtners\, a statewide initiative to strengthen local self-advocacy groups. 
 Find out more about Empowering Partners at The Arc Maryland: http://www.th
 earcmd.org/empowering-partners/
X-WR-RELCALID:ca8023761f6cd58b8543495090540717
X-WR-TIMEZONE:America/New_York
BEGIN:VTIMEZONE
TZID:America/New_York
BEGIN:STANDARD
TZNAME:EST
DTSTART:20251102T020000
TZOFFSETFROM:-0400
TZOFFSETTO:-0500
RDATE:20261101T020000
END:STANDARD
BEGIN:DAYLIGHT
TZNAME:EDT
DTSTART:20250309T020000
TZOFFSETFROM:-0500
TZOFFSETTO:-0400
RDATE:20260308T020000
RDATE:20270314T020000
END:DAYLIGHT
END:VTIMEZONE
BEGIN:VEVENT
UID:e9e37a0a-2f36-4fd1-a73b-2fee97e758d9
DTSTAMP:20260420T164257Z
DESCRIPTION:Join us for the in-person gathering! STAND Together isn’t just 
 about advocacy\; it’s about building a strong community. Whether you’re pa
 ssionate about making a difference or just looking to socialize with other
 s\, this is the event for you!\n\nSTAND Together is part of Empowering Par
 tners\, a statewide initiative to strengthen local self-advocacy groups. F
 ind out more about Empowering Partners at The Arc Maryland: http://www.the
 arcmd.org/empowering-partners/
DTSTART;TZID=America/New_York:20251210T180000
DTEND;TZID=America/New_York:20251210T190000
LOCATION:7362 Calhoun Place\, Rockville\, MD 20855 US
SUMMARY:STAND Together–IN PERSON!
END:VEVENT
END:VCALENDAR
