BEGIN:VCALENDAR
VERSION:2.0
PRODID:-//thearcmontgomerycounty.org//NONSGML kigkonsult.se iCalcreator 2.3
 0.10//
CALSCALE:GREGORIAN
METHOD:PUBLISH
UID:6609b60c-e8d5-4072-96ab-46852f453d5d
X-WR-CALDESC:Headquarters closed.\nChildren & Youth Services programs close
 d.\nEmployment & Meaningful Day Services programs closed.
X-WR-RELCALID:b55374914f5f25d194d91a6dfb37916c
X-WR-TIMEZONE:America/New_York
BEGIN:VTIMEZONE
TZID:America/New_York
BEGIN:STANDARD
TZNAME:EST
DTSTART:20251102T020000
TZOFFSETFROM:-0400
TZOFFSETTO:-0500
RDATE:20261101T020000
END:STANDARD
BEGIN:DAYLIGHT
TZNAME:EDT
DTSTART:20250309T020000
TZOFFSETFROM:-0500
TZOFFSETTO:-0400
RDATE:20260308T020000
RDATE:20270314T020000
END:DAYLIGHT
END:VTIMEZONE
BEGIN:VEVENT
UID:340f9f21-8218-403c-813d-147db5c374ce
DTSTAMP:20260420T164001Z
DESCRIPTION:Headquarters closed.\nChildren & Youth Services programs closed
 .\nEmployment & Meaningful Day Services programs closed.
DTSTART;TZID=America/New_York:20251224T060000
DTEND;TZID=America/New_York:20251224T060001
LOCATION:
SUMMARY:Christmas Eve  Holiday
END:VEVENT
END:VCALENDAR
