BEGIN:VCALENDAR
VERSION:2.0
PRODID:-//thearcmontgomerycounty.org//NONSGML kigkonsult.se iCalcreator 2.3
 0.10//
CALSCALE:GREGORIAN
METHOD:PUBLISH
UID:58777140-d01b-4293-b9ba-c8b1047888e7
X-WR-CALDESC:Headquarters closed.\nChildren & Youth Services programs close
 d.\nEmployment & Meaningful Day Services programs closed.
X-WR-RELCALID:30cdc7ee9706f4d240c251a35995adc0
X-WR-TIMEZONE:America/New_York
BEGIN:VTIMEZONE
TZID:America/New_York
BEGIN:STANDARD
TZNAME:EST
DTSTART:20251102T020000
TZOFFSETFROM:-0400
TZOFFSETTO:-0500
RDATE:20261101T020000
END:STANDARD
BEGIN:DAYLIGHT
TZNAME:EDT
DTSTART:20250309T020000
TZOFFSETFROM:-0500
TZOFFSETTO:-0400
RDATE:20260308T020000
RDATE:20270314T020000
END:DAYLIGHT
END:VTIMEZONE
BEGIN:VEVENT
UID:a96894ef-e117-4339-a429-8c80b677d033
DTSTAMP:20260420T163440Z
DESCRIPTION:Headquarters closed.\nChildren & Youth Services programs closed
 .\nEmployment & Meaningful Day Services programs closed.
DTSTART;TZID=America/New_York:20251225T060000
DTEND;TZID=America/New_York:20251225T060001
LOCATION:
SUMMARY:Christmas Holiday
END:VEVENT
END:VCALENDAR
