BEGIN:VCALENDAR
VERSION:2.0
PRODID:-//thearcmontgomerycounty.org//NONSGML kigkonsult.se iCalcreator 2.3
 0.10//
CALSCALE:GREGORIAN
METHOD:PUBLISH
UID:670e3cbe-3975-484c-ae1f-7dbdd5b9b137
X-WR-CALDESC:Join us for the in-person gathering! STAND Together isn’t just
  about advocacy\; it’s about building a strong community. Whether you’re p
 assionate about making a difference or just looking to socialize with othe
 rs\, this is the event for you!\n\nSTAND Together is part of Empowering Pa
 rtners\, a statewide initiative to strengthen local self-advocacy groups. 
 Find out more about Empowering Partners at The Arc Maryland: http://www.th
 earcmd.org/empowering-partners/
X-WR-RELCALID:943d352eebc02d4021bc78a291bf3939
X-WR-TIMEZONE:America/New_York
BEGIN:VTIMEZONE
TZID:America/New_York
BEGIN:STANDARD
TZNAME:EST
DTSTART:20251102T020000
TZOFFSETFROM:-0400
TZOFFSETTO:-0500
RDATE:20261101T020000
END:STANDARD
BEGIN:DAYLIGHT
TZNAME:EDT
DTSTART:20250309T020000
TZOFFSETFROM:-0500
TZOFFSETTO:-0400
RDATE:20260308T020000
RDATE:20270314T020000
END:DAYLIGHT
END:VTIMEZONE
BEGIN:VEVENT
UID:208da0a9-f2e4-4b56-b868-8d85902c853f
DTSTAMP:20260420T150456Z
DESCRIPTION:Join us for the in-person gathering! STAND Together isn’t just 
 about advocacy\; it’s about building a strong community. Whether you’re pa
 ssionate about making a difference or just looking to socialize with other
 s\, this is the event for you!\n\nSTAND Together is part of Empowering Par
 tners\, a statewide initiative to strengthen local self-advocacy groups. F
 ind out more about Empowering Partners at The Arc Maryland: http://www.the
 arcmd.org/empowering-partners/
DTSTART;TZID=America/New_York:20260114T180000
DTEND;TZID=America/New_York:20260114T190000
LOCATION:7362 Calhoun Place\, Rockville\, MD 20855 US
SUMMARY:STAND Together–IN PERSON!
END:VEVENT
END:VCALENDAR
