BEGIN:VCALENDAR
VERSION:2.0
PRODID:-//thearcmontgomerycounty.org//NONSGML kigkonsult.se iCalcreator 2.3
 0.10//
CALSCALE:GREGORIAN
METHOD:PUBLISH
UID:d3f65422-2515-4c8d-a932-308efbb9bb68
X-WR-CALDESC:Headquarters closed.\nChildren & Youth Services programs close
 d.\nEmployment & Meaningful Day Services programs closed.
X-WR-RELCALID:e2151c11cd05faaa4749a6150b6a90db
X-WR-TIMEZONE:America/New_York
BEGIN:VTIMEZONE
TZID:America/New_York
BEGIN:STANDARD
TZNAME:EST
DTSTART:20251102T020000
TZOFFSETFROM:-0400
TZOFFSETTO:-0500
RDATE:20261101T020000
END:STANDARD
BEGIN:DAYLIGHT
TZNAME:EDT
DTSTART:20250309T020000
TZOFFSETFROM:-0500
TZOFFSETTO:-0400
RDATE:20260308T020000
RDATE:20270314T020000
END:DAYLIGHT
END:VTIMEZONE
BEGIN:VEVENT
UID:8f37fd1f-4162-4af1-a8b3-986ddee33d5d
DTSTAMP:20260420T150614Z
DESCRIPTION:Headquarters closed.\nChildren & Youth Services programs closed
 .\nEmployment & Meaningful Day Services programs closed.
DTSTART;TZID=America/New_York:20260119T060000
DTEND;TZID=America/New_York:20260119T060001
LOCATION:
SUMMARY:Martin Luther King\, Jr. Holiday
END:VEVENT
END:VCALENDAR
