BEGIN:VCALENDAR
VERSION:2.0
PRODID:-//thearcmontgomerycounty.org//NONSGML kigkonsult.se iCalcreator 2.3
 0.10//
CALSCALE:GREGORIAN
METHOD:PUBLISH
UID:217c77a2-60f0-4122-a1c4-7b9d14d9f9cf
X-WR-CALDESC:We are meeting with other advocacy groups in Maryland! Please 
 join STAND Together\, Voices of Ability\, and New Hope for All for a fun s
 ocial get together. Please email STAND Together if you are interested in a
 ttending and need transportation by this Friday\, April 3\, 2026. \n\nJoin
  us for the in-person gathering! STAND Together isn’t just about advocacy\
 ; it’s about building a strong community. Whether you’re passionate about 
 making a difference or just looking to socialize with others\, this is the
  event for you!\n\nSTAND Together is part of Empowering Partners\, a state
 wide initiative to strengthen local self-advocacy groups. Find out more ab
 out Empowering Partners at The Arc Maryland: http://www.thearcmd.org/empow
 ering-partners/
X-WR-RELCALID:87aacef06a058a476914bbfce17ce9e0
X-WR-TIMEZONE:America/New_York
BEGIN:VTIMEZONE
TZID:America/New_York
BEGIN:STANDARD
TZNAME:EST
DTSTART:20251102T020000
TZOFFSETFROM:-0400
TZOFFSETTO:-0500
RDATE:20261101T020000
END:STANDARD
BEGIN:DAYLIGHT
TZNAME:EDT
DTSTART:20260308T020000
TZOFFSETFROM:-0500
TZOFFSETTO:-0400
RDATE:20270314T020000
END:DAYLIGHT
END:VTIMEZONE
BEGIN:VEVENT
UID:a8552d3b-c00b-47ea-b3d5-0f97256a73f0
DTSTAMP:20260420T133742Z
DESCRIPTION:We are meeting with other advocacy groups in Maryland! Please j
 oin STAND Together\, Voices of Ability\, and New Hope for All for a fun so
 cial get together. Please email STAND Together if you are interested in at
 tending and need transportation by this Friday\, April 3\, 2026. \n\nJoin 
 us for the in-person gathering! STAND Together isn’t just about advocacy\;
  it’s about building a strong community. Whether you’re passionate about m
 aking a difference or just looking to socialize with others\, this is the 
 event for you!\n\nSTAND Together is part of Empowering Partners\, a statew
 ide initiative to strengthen local self-advocacy groups. Find out more abo
 ut Empowering Partners at The Arc Maryland: http://www.thearcmd.org/empowe
 ring-partners/
DTSTART;TZID=America/New_York:20260408T160000
DTEND;TZID=America/New_York:20260408T180000
LOCATION:1301 W. Patrick St. Suite #132\, Frederick\, MD 21701 US
SUMMARY:STAND Together–IN PERSON!   Advocacy Group Social
END:VEVENT
END:VCALENDAR
