BEGIN:VCALENDAR
VERSION:2.0
PRODID:-//thearcmontgomerycounty.org//NONSGML kigkonsult.se iCalcreator 2.3
 0.10//
CALSCALE:GREGORIAN
METHOD:PUBLISH
UID:342d716a-f884-4a51-ac5e-f4349841aa1a
X-WR-CALDESC:Get ready for a weekend full of laughter and impact! We’ve tea
 med up with Give a Hoot Comedy Club for two epic nights of comedy. Mark yo
 ur calendars for Friday\, September 11\, and Saturday\, September 12\, bec
 ause you won’t want to miss this!\n\nHave fun laughing so hard you’ll (alm
 ost) fall out of your chair\, all while raising funds for The Arc Montgome
 ry County.  And here’s the best part: 50% of the weekend’s proceeds will d
 irectly support their incredible work.\n\nThis is your chance to have an u
 nforgettable night out while giving back to your community! Bring your cre
 w for an evening packed with good vibes\, and feel great knowing you’re ma
 king a difference.\n\nAdvance tickets are only $20 ($25 at the door). Door
 s open at at 7 pm on Friday and Saturday\, with shows starting promptly an
  hour later. Plus\, parking is free! Give a Hoot Comedy Club\, located ins
 ide La Mexicana at 16143 Shady Grove Road\, Gaithersburg\, MD\, offers a f
 ull menu of food and drinks to keep you fueled for a night of non-stop lau
 ghter.\n\nGrab your tickets\, bring your friends\, and join us for a weeke
 nd of comedy that makes a difference!\n\nSee you there!
X-WR-RELCALID:54c99050d2b128bd0b22869a45b418ad
X-WR-TIMEZONE:America/New_York
BEGIN:VTIMEZONE
TZID:America/New_York
BEGIN:STANDARD
TZNAME:EST
DTSTART:20251102T020000
TZOFFSETFROM:-0400
TZOFFSETTO:-0500
RDATE:20261101T020000
RDATE:20271107T020000
END:STANDARD
BEGIN:DAYLIGHT
TZNAME:EDT
DTSTART:20260308T020000
TZOFFSETFROM:-0500
TZOFFSETTO:-0400
RDATE:20270314T020000
RDATE:20280312T020000
END:DAYLIGHT
END:VTIMEZONE
BEGIN:VEVENT
UID:adaeff85-8b6b-449f-8e0c-132f25ef6a83
DTSTAMP:20260420T182835Z
DESCRIPTION:Get ready for a weekend full of laughter and impact! We’ve team
 ed up with Give a Hoot Comedy Club for two epic nights of comedy. Mark you
 r calendars for Friday\, September 11\, and Saturday\, September 12\, beca
 use you won’t want to miss this!\n\nHave fun laughing so hard you’ll (almo
 st) fall out of your chair\, all while raising funds for The Arc Montgomer
 y County.  And here’s the best part: 50% of the weekend’s proceeds will di
 rectly support their incredible work.\n\nThis is your chance to have an un
 forgettable night out while giving back to your community! Bring your crew
  for an evening packed with good vibes\, and feel great knowing you’re mak
 ing a difference.\n\nAdvance tickets are only $20 ($25 at the door). Doors
  open at at 7 pm on Friday and Saturday\, with shows starting promptly an 
 hour later. Plus\, parking is free! Give a Hoot Comedy Club\, located insi
 de La Mexicana at 16143 Shady Grove Road\, Gaithersburg\, MD\, offers a fu
 ll menu of food and drinks to keep you fueled for a night of non-stop laug
 hter.\n\nGrab your tickets\, bring your friends\, and join us for a weeken
 d of comedy that makes a difference!\n\nSee you there!
DTSTART;TZID=America/New_York:20260912T190000
DTEND;TZID=America/New_York:20260912T220000
LOCATION:Give a Hoot Comedy Club\, 16143 Shady Grove Rd\, Gaithersburg\, MD
  20877 US
SUMMARY:Comedy for a Cause - Give a Hoot Comedy Club
END:VEVENT
END:VCALENDAR
