BEGIN:VCALENDAR
VERSION:2.0
PRODID:-//thearcmontgomerycounty.org//NONSGML kigkonsult.se iCalcreator 2.3
 0.10//
CALSCALE:GREGORIAN
METHOD:PUBLISH
UID:f344ef35-f2c5-48ac-a513-22ab88b29371
X-WR-CALDESC:
X-WR-RELCALID:baf5c019789208b1ce053d1923163a3d
X-WR-TIMEZONE:America/New_York
BEGIN:VTIMEZONE
TZID:America/New_York
BEGIN:STANDARD
TZNAME:EST
DTSTART:20181104T020000
TZOFFSETFROM:-0400
TZOFFSETTO:-0500
RDATE:20191103T020000
RDATE:20201101T020000
END:STANDARD
BEGIN:DAYLIGHT
TZNAME:EDT
DTSTART:20190310T020000
TZOFFSETFROM:-0500
TZOFFSETTO:-0400
RDATE:20200308T020000
END:DAYLIGHT
END:VTIMEZONE
BEGIN:VEVENT
UID:03747760-caa0-4940-b649-67c10f0a978a
DTSTAMP:20260421T113541Z
DESCRIPTION:
DTSTART;TZID=America/New_York:20190906T160000
DTEND;TZID=America/New_York:20190906T170000
LOCATION:7362 Calhoun Place\, Rockville\, MD 20855
SUMMARY:Volunteer Orientation
END:VEVENT
END:VCALENDAR
