BEGIN:VCALENDAR
VERSION:2.0
PRODID:-//thearcmontgomerycounty.org//NONSGML kigkonsult.se iCalcreator 2.3
 0.10//
CALSCALE:GREGORIAN
METHOD:PUBLISH
UID:17b395a4-be89-4642-a9c1-9997c72e2930
X-WR-CALDESC:This is a private event for employee of The Arc Montgomery Cou
 nty and their families only.  Specific address and directions will be prov
 ided in a confirmation email.
X-WR-RELCALID:1e725d8017f93d861e52ff417e14a485
X-WR-TIMEZONE:America/New_York
BEGIN:VTIMEZONE
TZID:America/New_York
BEGIN:STANDARD
TZNAME:EST
DTSTART:20181104T020000
TZOFFSETFROM:-0400
TZOFFSETTO:-0500
RDATE:20191103T020000
RDATE:20201101T020000
END:STANDARD
BEGIN:DAYLIGHT
TZNAME:EDT
DTSTART:20190310T020000
TZOFFSETFROM:-0500
TZOFFSETTO:-0400
RDATE:20200308T020000
END:DAYLIGHT
END:VTIMEZONE
BEGIN:VEVENT
UID:76330616-1a3d-4d50-9a8a-6e65162cc3d4
DTSTAMP:20260421T114056Z
DESCRIPTION:This is a private event for employee of The Arc Montgomery Coun
 ty and their families only.  Specific address and directions will be provi
 ded in a confirmation email.
DTSTART;TZID=America/New_York:20190908T150000
DTEND;TZID=America/New_York:20190908T170000
LOCATION:Clarksburg\, MD
SUMMARY:Family Day Picnic for Employees
END:VEVENT
END:VCALENDAR
