BEGIN:VCALENDAR
VERSION:2.0
PRODID:-//thearcmontgomerycounty.org//NONSGML kigkonsult.se iCalcreator 2.3
 0.10//
CALSCALE:GREGORIAN
METHOD:PUBLISH
UID:071fb79c-1371-4552-81f2-7f9093b39636
X-WR-CALDESC:Dust off your platforms and turn up the funk! The Arc Montgome
 ry County invites you to Groovin’ for Good\, a high-vibe\, feel-good disco
  party where good times meet a great cause. We’re bringing the community t
 ogether for a night of rhythm\, joy\, and impact\, all in support of our m
 ission of inclusion\, empowerment\, and connection.\n\nSlide into your fly
 est disco fits and get ready to boogie all night long. A live DJ will be s
 pinning nonstop classics to keep the floor lit\, while our best‑dressed di
 sco costume contest brings the retro realness. Join the crowd for an elect
 ric Soul Train line moment you won’t forget\, enjoy live performers bringi
 ng extra sparkle to the scene\, and try your luck with our 50/50 raffle\, 
 because giving back never looked (or sounded) so good. And when you need t
 o refuel between dance breaks\, a full cash bar will be ready to keep the 
 vibes flowing all night. Leave those credit cards at home\, we're going fu
 ll vintage! All activities\, including the 50/50 raffle and cash bar\, wil
 l be cash only.\n\nTicket Price: $25\nTable Price: $500\n\nLet’s groove\, 
 give back\, and dance for a purpose. If you have any questions\, please em
 ail Communications@TheArcMoCo.org or call 301.984.5777 x1246.
X-WR-RELCALID:8bd6ac6fb7ddb47d176ee1c5a62f0a78
X-WR-TIMEZONE:America/New_York
BEGIN:VTIMEZONE
TZID:America/New_York
BEGIN:STANDARD
TZNAME:EST
DTSTART:20251102T020000
TZOFFSETFROM:-0400
TZOFFSETTO:-0500
RDATE:20261101T020000
END:STANDARD
BEGIN:DAYLIGHT
TZNAME:EDT
DTSTART:20260308T020000
TZOFFSETFROM:-0500
TZOFFSETTO:-0400
RDATE:20270314T020000
END:DAYLIGHT
END:VTIMEZONE
BEGIN:VEVENT
UID:ca05d147-1b04-4003-bda9-ca1cf1d9b8af
DTSTAMP:20260420T102123Z
DESCRIPTION:Dust off your platforms and turn up the funk! The Arc Montgomer
 y County invites you to Groovin’ for Good\, a high-vibe\, feel-good disco 
 party where good times meet a great cause. We’re bringing the community to
 gether for a night of rhythm\, joy\, and impact\, all in support of our mi
 ssion of inclusion\, empowerment\, and connection.\n\nSlide into your flye
 st disco fits and get ready to boogie all night long. A live DJ will be sp
 inning nonstop classics to keep the floor lit\, while our best‑dressed dis
 co costume contest brings the retro realness. Join the crowd for an electr
 ic Soul Train line moment you won’t forget\, enjoy live performers bringin
 g extra sparkle to the scene\, and try your luck with our 50/50 raffle\, b
 ecause giving back never looked (or sounded) so good. And when you need to
  refuel between dance breaks\, a full cash bar will be ready to keep the v
 ibes flowing all night. Leave those credit cards at home\, we're going ful
 l vintage! All activities\, including the 50/50 raffle and cash bar\, will
  be cash only.\n\nTicket Price: $25\nTable Price: $500\n\nLet’s groove\, g
 ive back\, and dance for a purpose. If you have any questions\, please ema
 il Communications@TheArcMoCo.org or call 301.984.5777 x1246.
DTSTART;TZID=America/New_York:20260418T190000
DTEND;TZID=America/New_York:20260418T220000
LOCATION:Leisure World Clubhouse 1\, Crystal Ballroom \, 3700 Rossmoor Blvd
 \, Silver Spring\, MD 20906 US
SUMMARY:Groovin' for Good Disco Friendraiser
END:VEVENT
END:VCALENDAR
